BEGIN:VCALENDAR
VERSION:2.0
PRODID:-//Offensive gegen Rechts Steiermark - ECPv6.15.14//NONSGML v1.0//EN
CALSCALE:GREGORIAN
METHOD:PUBLISH
X-ORIGINAL-URL:https://www.ogr-stmk.at
X-WR-CALDESC:Events for Offensive gegen Rechts Steiermark
REFRESH-INTERVAL;VALUE=DURATION:PT1H
X-Robots-Tag:noindex
X-PUBLISHED-TTL:PT1H
BEGIN:VTIMEZONE
TZID:Europe/Vienna
BEGIN:DAYLIGHT
TZOFFSETFROM:+0100
TZOFFSETTO:+0200
TZNAME:CEST
DTSTART:20240331T010000
END:DAYLIGHT
BEGIN:STANDARD
TZOFFSETFROM:+0200
TZOFFSETTO:+0100
TZNAME:CET
DTSTART:20241027T010000
END:STANDARD
BEGIN:DAYLIGHT
TZOFFSETFROM:+0100
TZOFFSETTO:+0200
TZNAME:CEST
DTSTART:20250330T010000
END:DAYLIGHT
BEGIN:STANDARD
TZOFFSETFROM:+0200
TZOFFSETTO:+0100
TZNAME:CET
DTSTART:20251026T010000
END:STANDARD
BEGIN:DAYLIGHT
TZOFFSETFROM:+0100
TZOFFSETTO:+0200
TZNAME:CEST
DTSTART:20260329T010000
END:DAYLIGHT
BEGIN:STANDARD
TZOFFSETFROM:+0200
TZOFFSETTO:+0100
TZNAME:CET
DTSTART:20261025T010000
END:STANDARD
END:VTIMEZONE
BEGIN:VEVENT
DTSTART;TZID=Europe/Vienna:20251007T080000
DTEND;TZID=Europe/Vienna:20251007T170000
DTSTAMP:20260419T152210
CREATED:20251007T131051Z
LAST-MODIFIED:20251007T131051Z
UID:965-1759824000-1759856400@www.ogr-stmk.at
SUMMARY:📣 Kundgebung am 16.10. - Ein Jahr FPÖVP im Land: Ein Angriff auf Alle.
DESCRIPTION:FPÖ und ÖVP halten\, was sie versprechen. Ob Kürzungen im Kultur- und Sozialbereich\, Verschlechterungen bei der Sozialunterstützung oder Rassismus\, Sexismus und Queerfendlichkeit – ihre Politik nimmt großen Teilen der Bevölkerung die Grundlagen für (soziale) Sicherheit und ein gutes Leben. \nWir sagen: Nicht mit uns!✊️\nKommt zur Kundgebung am 16.10. um 18:00 am Südtirolerplatz.Setzt ein Zeichen für eine solidarische Gesellschaft und gegen rechte und konservative Politik.
URL:https://www.ogr-stmk.at/event/%f0%9f%93%a3-kundgebung-am-16-10-ein-jahr-fpoevp-im-land-ein-angriff-auf-alle/
END:VEVENT
END:VCALENDAR