BEGIN:VCALENDAR
VERSION:2.0
PRODID:-//Offensive gegen Rechts Steiermark - ECPv6.15.14//NONSGML v1.0//EN
CALSCALE:GREGORIAN
METHOD:PUBLISH
X-ORIGINAL-URL:https://www.ogr-stmk.at
X-WR-CALDESC:Events for Offensive gegen Rechts Steiermark
REFRESH-INTERVAL;VALUE=DURATION:PT1H
X-Robots-Tag:noindex
X-PUBLISHED-TTL:PT1H
BEGIN:VTIMEZONE
TZID:Europe/Vienna
BEGIN:DAYLIGHT
TZOFFSETFROM:+0100
TZOFFSETTO:+0200
TZNAME:CEST
DTSTART:20250330T010000
END:DAYLIGHT
BEGIN:STANDARD
TZOFFSETFROM:+0200
TZOFFSETTO:+0100
TZNAME:CET
DTSTART:20251026T010000
END:STANDARD
BEGIN:DAYLIGHT
TZOFFSETFROM:+0100
TZOFFSETTO:+0200
TZNAME:CEST
DTSTART:20260329T010000
END:DAYLIGHT
BEGIN:STANDARD
TZOFFSETFROM:+0200
TZOFFSETTO:+0100
TZNAME:CET
DTSTART:20261025T010000
END:STANDARD
BEGIN:DAYLIGHT
TZOFFSETFROM:+0100
TZOFFSETTO:+0200
TZNAME:CEST
DTSTART:20270328T010000
END:DAYLIGHT
BEGIN:STANDARD
TZOFFSETFROM:+0200
TZOFFSETTO:+0100
TZNAME:CET
DTSTART:20271031T010000
END:STANDARD
END:VTIMEZONE
BEGIN:VEVENT
DTSTART;TZID=Europe/Vienna:20260123T080000
DTEND;TZID=Europe/Vienna:20260123T170000
DTSTAMP:20260419T170643
CREATED:20260123T102202Z
LAST-MODIFIED:20260123T102202Z
UID:996-1769155200-1769187600@www.ogr-stmk.at
SUMMARY:Kundgebung 27.11.  UNSER LEID IST NICHT EUER KULTURKAMPF!
DESCRIPTION:Lendplatz 17:30 am 27.11.
URL:https://www.ogr-stmk.at/event/kundgebung-27-11-unser-leid-ist-nicht-euer-kulturkampf/
END:VEVENT
BEGIN:VEVENT
DTSTART;TZID=Europe/Vienna:20260123T080000
DTEND;TZID=Europe/Vienna:20260123T170000
DTSTAMP:20260419T170643
CREATED:20260123T102303Z
LAST-MODIFIED:20260123T102303Z
UID:1000-1769155200-1769187600@www.ogr-stmk.at
SUMMARY:Kundgebung 8.1. GEGEN REPRESSION UND RECHTE HETZE
DESCRIPTION:
URL:https://www.ogr-stmk.at/event/kundgebung-8-1-gegen-repression-und-rechte-hetze/
END:VEVENT
BEGIN:VEVENT
DTSTART;TZID=Europe/Vienna:20260123T080000
DTEND;TZID=Europe/Vienna:20260123T170000
DTSTAMP:20260419T170643
CREATED:20260123T102339Z
LAST-MODIFIED:20260123T102339Z
UID:1004-1769155200-1769187600@www.ogr-stmk.at
SUMMARY:Kundgebung vor der FPÖ Zentrale
DESCRIPTION:
URL:https://www.ogr-stmk.at/event/kundgebung-vor-der-fpoe-zentrale/
END:VEVENT
BEGIN:VEVENT
DTSTART;TZID=Europe/Vienna:20260123T080000
DTEND;TZID=Europe/Vienna:20260123T170000
DTSTAMP:20260419T170643
CREATED:20260123T102828Z
LAST-MODIFIED:20260123T102828Z
UID:1008-1769155200-1769187600@www.ogr-stmk.at
SUMMARY:1 JAHR FPÖVP im Land - eine Bilanz
DESCRIPTION:Wir haben in einer 6 Seitigen Broschüre zusammengefasst was in den letzten 12 Monaten\, seit die FPÖVP Regierung im Land an die Macht gekommen ist\, passiert ist. Lest selbst! \n  \nbroschüre.1jahr.fpövp
URL:https://www.ogr-stmk.at/event/1-jahr-fpoevp-im-land-eine-bilanz/
END:VEVENT
BEGIN:VEVENT
DTSTART;TZID=Europe/Vienna:20260123T080000
DTEND;TZID=Europe/Vienna:20260123T170000
DTSTAMP:20260419T170643
CREATED:20260123T103100Z
LAST-MODIFIED:20260123T103100Z
UID:1013-1769155200-1769187600@www.ogr-stmk.at
SUMMARY:24.1. DEMONSTRATION GEGEN DEN 71. GRAZER AKADEMIKERBALL
DESCRIPTION:
URL:https://www.ogr-stmk.at/event/24-1-demonstration-gegen-den-71-grazer-akademikerball/
END:VEVENT
END:VCALENDAR